BEGIN:VCALENDAR
VERSION:2.0
PRODID:-//jEvents 2.0 for Joomla//EN
CALSCALE:GREGORIAN
METHOD:PUBLISH
BEGIN:VEVENT
UID:831cc59ae2ca2cab662b639f87a08db4
CATEGORIES:Gemeinde
CREATED:20240103T153510
SUMMARY:Zugübung FZ Personalreserve
DESCRIPTION:<p>Zugübung des Fachzuges Personalreserve</p><p>Schützenplatz /Gerätehaus H
 ohenhameln</p><p>Zugführer J.Böker</p><p>&nbsp;</p><p>Jahresabschluß</p>
DTSTAMP:20260423T053427
DTSTART:20241116T170000
DTEND:20241116T210000
SEQUENCE:0
TRANSP:OPAQUE
END:VEVENT
END:VCALENDAR