BEGIN:VCALENDAR
VERSION:2.0
PRODID:-//jEvents 2.0 for Joomla//EN
CALSCALE:GREGORIAN
METHOD:PUBLISH
BEGIN:VEVENT
UID:dbedded6509017d143949bfb73a9bf36
CATEGORIES:Gemeinde
CREATED:20240103T155232
SUMMARY:AGT Leistungsnachweis
DESCRIPTION:<p>AGT Leistungsnachweis in der FTZ</p><p>Gemeindeatemschutzbeauftragte</p>
 <p>Sabrina Welge-Ulbrich</p>
DTSTAMP:20260422T215453
DTSTART:20241029T171500
SEQUENCE:0
TRANSP:OPAQUE
END:VEVENT
END:VCALENDAR