BEGIN:VCALENDAR
VERSION:2.0
PRODID:-//jEvents 2.0 for Joomla//EN
CALSCALE:GREGORIAN
METHOD:PUBLISH
BEGIN:VEVENT
UID:ac77f7694b31125b343b560fbd5f0402
CATEGORIES:Hohenhameln
CREATED:20240103T161418
SUMMARY:Gemeindeversammlung
DESCRIPTION:<p>Unterstützung der Gemeindeversammlung Im DGH Hohenhameln</p><p>OrtsBM L.
 Kunz</p>
DTSTAMP:20260423T071230
DTSTART:20240210T070000
SEQUENCE:0
TRANSP:OPAQUE
END:VEVENT
END:VCALENDAR