BEGIN:VCALENDAR
VERSION:2.0
PRODID:-//jEvents 2.0 for Joomla//EN
CALSCALE:GREGORIAN
METHOD:PUBLISH
BEGIN:VEVENT
UID:6c012b6cf9f47f48075ce837a4a8620a
CATEGORIES:Hohenhameln
CREATED:20240103T164138
SUMMARY:Kettensägenausbildung Theorie 
DESCRIPTION:Theoretische Kettensägenausbildung\nGerätehaus Hohehameln\nNur nach Anmeldu
 ng\nT.Lindemann\n \n
X-ALT-DESC;FMTTYPE=text/html:<p>Theoretische Kettensägenausbildung</p><p>Gerätehaus Hohehameln</p><p>Nur
  nach Anmeldung</p><p>T.Lindemann</p><p>&nbsp;</p>
DTSTAMP:20260423T021707
DTSTART:20240223T180000
DTEND:20240223T200000
SEQUENCE:0
TRANSP:OPAQUE
END:VEVENT
END:VCALENDAR