BEGIN:VCALENDAR
VERSION:2.0
PRODID:-//jEvents 2.0 for Joomla//EN
CALSCALE:GREGORIAN
METHOD:PUBLISH
BEGIN:VEVENT
UID:f6ea40f7ac59fd48062ceb7134632b23
CATEGORIES:Hohenhameln
CREATED:20240103T191802
SUMMARY:Kettensägenausbildung Praxis
DESCRIPTION:Praxis Kettensägenausbildung\nGerätehaus Hohehameln\nNur nach Anmeldung\nT.
 Lindemann\n
X-ALT-DESC;FMTTYPE=text/html:<p>Praxis Kettensägenausbildung</p><p>Gerätehaus Hohehameln</p><p>Nur nach 
 Anmeldung</p><p>T.Lindemann</p>
DTSTAMP:20260423T113743
DTSTART:20240224T070000
DTEND:20240224T160000
SEQUENCE:0
TRANSP:OPAQUE
END:VEVENT
END:VCALENDAR