BEGIN:VCALENDAR
VERSION:2.0
PRODID:-//jEvents 2.0 for Joomla//EN
CALSCALE:GREGORIAN
METHOD:PUBLISH
BEGIN:VEVENT
UID:87db6c5ad47862b3ec787e72645e3666
CATEGORIES:Hohenhameln
CREATED:20240103T192007
SUMMARY:Allgemeiner Übungsdienst
DESCRIPTION:<p>Allgemeiner Übungsdienst der Ortswehr Hohenhameln</p><p>Gerätehaus</p><p
 >&nbsp;</p>
DTSTAMP:20260422T235009
DTSTART:20240227T183000
DTEND:20240227T200000
SEQUENCE:0
TRANSP:OPAQUE
END:VEVENT
END:VCALENDAR