BEGIN:VCALENDAR
VERSION:2.0
PRODID:-//jEvents 2.0 for Joomla//EN
CALSCALE:GREGORIAN
METHOD:PUBLISH
BEGIN:VEVENT
UID:c8cca2976fdad8f2b4346b69dde7be77
CATEGORIES:Hohenhameln
CREATED:20240103T192221
SUMMARY:Allgemeiner Übungsdienst
DESCRIPTION:Allgemeiner Übungsdienst der Ortswehr Hohenhameln\nGerätehaus\n
X-ALT-DESC;FMTTYPE=text/html:<p>Allgemeiner Übungsdienst der Ortswehr Hohenhameln</p><p>Gerätehaus</p>
DTSTAMP:20260425T103406
DTSTART:20240423T173000
DTEND:20240423T190000
SEQUENCE:0
TRANSP:OPAQUE
END:VEVENT
END:VCALENDAR