BEGIN:VCALENDAR
VERSION:2.0
PRODID:-//jEvents 2.0 for Joomla//EN
CALSCALE:GREGORIAN
METHOD:PUBLISH
BEGIN:VEVENT
UID:6792a462209fe8f26f3e21e198ae439c
CATEGORIES:Hohenhameln
CREATED:20240103T192632
SUMMARY:Jahreshauptversammlung
DESCRIPTION:<p>Jahreshauptversammlung der Ortswehr Hohenahmeln</p><p>Gerätehaus</p><p>L
 .Kunz</p><p>&nbsp;</p>
DTSTAMP:20260423T115111
DTSTART:20240504T060000
SEQUENCE:0
TRANSP:OPAQUE
END:VEVENT
END:VCALENDAR