BEGIN:VCALENDAR
VERSION:2.0
PRODID:-//jEvents 2.0 for Joomla//EN
CALSCALE:GREGORIAN
METHOD:PUBLISH
BEGIN:VEVENT
UID:a77bc795a5f2d6c3436e6bdc4ba8ca50
CATEGORIES:Hohenhameln
CREATED:20240103T193404
SUMMARY:Konzert Musikzug
DESCRIPTION:<p>Konzert des Musikzuges Hohenhameln</p><p>Dorfgemeinschaft Haus</p><p>&nb
 sp;</p>
DTSTAMP:20260423T115136
DTSTART:20240317T143000
SEQUENCE:0
TRANSP:OPAQUE
END:VEVENT
END:VCALENDAR