BEGIN:VCALENDAR
VERSION:2.0
PRODID:-//jEvents 2.0 for Joomla//EN
CALSCALE:GREGORIAN
METHOD:PUBLISH
BEGIN:VEVENT
UID:6b26d7e2429d1878a27ba5d69834741e
CATEGORIES:Hohenhameln
CREATED:20240103T193629
SUMMARY:Brandwache Osterfeuer Hohenhameln
DESCRIPTION:Brandwache am Osterfeuer\n \n
X-ALT-DESC;FMTTYPE=text/html:<p>Brandwache am Osterfeuer</p><p>&nbsp;</p>
DTSTAMP:20260423T071300
DTSTART:20240330T070000
SEQUENCE:0
TRANSP:OPAQUE
END:VEVENT
END:VCALENDAR