BEGIN:VCALENDAR
VERSION:2.0
PRODID:-//jEvents 2.0 for Joomla//EN
CALSCALE:GREGORIAN
METHOD:PUBLISH
BEGIN:VEVENT
UID:4e23e848a2a3bd0caaf069db71fc365d
CATEGORIES:JFW Mehrum
CREATED:20240106T131741
SUMMARY:Tannenbaumaktion
LOCATION:Gerätehaus Mehrum
DESCRIPTION:
CONTACT:https://ff-hohenhameln.de/index.php/jugend-und-kinder/jfw-mehrum
DTSTAMP:20260423T081121
DTSTART:20240113T070000
DTEND:20240113T120000
SEQUENCE:0
TRANSP:OPAQUE
END:VEVENT
END:VCALENDAR