BEGIN:VCALENDAR
VERSION:2.0
PRODID:-//jEvents 2.0 for Joomla//EN
CALSCALE:GREGORIAN
METHOD:PUBLISH
BEGIN:VEVENT
UID:83dc7e5fde694a2e0ef8c0c882a11b13
CATEGORIES:JFW Mehrum
CREATED:20240106T132623
SUMMARY:Bezirkswettkämpfe
LOCATION:Gerätehaus Mehrum
DESCRIPTION:
CONTACT:https://ff-hohenhameln.de/index.php/jugend-und-kinder/jfw-mehrum
X-EXTRAINFO:nur bei Qualifikation durch Kreiswettkämpfe!
DTSTAMP:20260423T061327
DTSTART:20240609T060000
DTEND:20240609T160000
SEQUENCE:0
TRANSP:OPAQUE
END:VEVENT
END:VCALENDAR