BEGIN:VCALENDAR
VERSION:2.0
PRODID:-//jEvents 2.0 for Joomla//EN
CALSCALE:GREGORIAN
METHOD:PUBLISH
BEGIN:VEVENT
UID:dd27913f780909dfa8ce7be11c1c84bb
CATEGORIES:JFW Mehrum
CREATED:20240106T132813
SUMMARY:Zeltlager
LOCATION:Gerätehaus Mehrum
DESCRIPTION:
CONTACT:https://ff-hohenhameln.de/index.php/jugend-und-kinder/jfw-mehrum
DTSTAMP:20260422T102653
DTSTART:20240622T060000
DTEND:20240629T130000
SEQUENCE:0
TRANSP:OPAQUE
END:VEVENT
END:VCALENDAR