BEGIN:VCALENDAR
VERSION:2.0
PRODID:-//jEvents 2.0 for Joomla//EN
CALSCALE:GREGORIAN
METHOD:PUBLISH
BEGIN:VEVENT
UID:9096b0cb2751c5586deff974e28167ce
CATEGORIES:Bierbergen
CREATED:20240113T155402
SUMMARY:Dienstabend AGT
LOCATION:FGH Bierbergen
DESCRIPTION:<p>Basics, AGT Überwachung und Sicherheitsunterweisung</p>
DTSTAMP:20260422T090118
DTSTART:20240116T183000
DTEND:20240116T203000
SEQUENCE:0
TRANSP:OPAQUE
END:VEVENT
END:VCALENDAR