BEGIN:VCALENDAR
VERSION:2.0
PRODID:-//jEvents 2.0 for Joomla//EN
CALSCALE:GREGORIAN
METHOD:PUBLISH
BEGIN:VEVENT
UID:dcfb6fac354479d5d54def729be0c9b0
CATEGORIES:Bierbergen
CREATED:20240113T155818
SUMMARY:Dienstabend Gruppe 1
LOCATION:FGH Bierbergen
DESCRIPTION:
DTSTAMP:20260422T092821
DTSTART:20240117T180000
DTEND:20240117T203000
SEQUENCE:0
TRANSP:OPAQUE
END:VEVENT
END:VCALENDAR