BEGIN:VCALENDAR
VERSION:2.0
PRODID:-//jEvents 2.0 for Joomla//EN
CALSCALE:GREGORIAN
METHOD:PUBLISH
BEGIN:VEVENT
UID:3b47d4fc9bb0203be84c78ae3e8b2af2
CATEGORIES:Bierbergen
CREATED:20240113T155918
SUMMARY:1. OrtsKdo-Sitzung 2024
LOCATION:FGH Bierbergen
DESCRIPTION:
DTSTAMP:20260422T092025
DTSTART:20240118T180000
DTEND:20240118T200000
SEQUENCE:0
TRANSP:OPAQUE
END:VEVENT
END:VCALENDAR