BEGIN:VCALENDAR
VERSION:2.0
PRODID:-//jEvents 2.0 for Joomla//EN
CALSCALE:GREGORIAN
METHOD:PUBLISH
BEGIN:VEVENT
UID:0b2949ca93f55a08c61c9c318a10e203
CATEGORIES:Hohenhameln
CREATED:20240116T083859
SUMMARY:Übungsdienst 5.Gruppe
DESCRIPTION:<p>Übungsdienst der 5:Gruppe</p><p>Gerätehaus</p><p>GF W.Both</p>
DTSTAMP:20260423T022140
DTSTART:20240222T183000
DTEND:20240222T200000
SEQUENCE:0
TRANSP:OPAQUE
END:VEVENT
END:VCALENDAR