BEGIN:VCALENDAR
VERSION:2.0
PRODID:-//jEvents 2.0 for Joomla//EN
CALSCALE:GREGORIAN
METHOD:PUBLISH
BEGIN:VEVENT
UID:b2708d2ce1fce6ea083c78ce8a3a6503
CATEGORIES:Hohenhameln
CREATED:20240116T084230
SUMMARY:Übungsdienst 5.Gruppe
DESCRIPTION:Übungsdienst der 5:Gruppe\nGerätehaus\nGF W.Both\n
X-ALT-DESC;FMTTYPE=text/html:<p>Übungsdienst der 5:Gruppe</p><p>Gerätehaus</p><p>GF W.Both</p>
DTSTAMP:20260423T021546
DTSTART:20240321T183000
DTEND:20240321T200000
SEQUENCE:0
TRANSP:OPAQUE
END:VEVENT
END:VCALENDAR