BEGIN:VCALENDAR
VERSION:2.0
PRODID:-//jEvents 2.0 for Joomla//EN
CALSCALE:GREGORIAN
METHOD:PUBLISH
BEGIN:VEVENT
UID:5dd99239f7392f4b195cc2b203f178ee
CATEGORIES:Hohenhameln
CREATED:20240116T084420
SUMMARY:Übungsdienst 5.Gruppe
DESCRIPTION:Übungsdienst der 5:Gruppe\nGerätehaus\nGF W.Both\n
X-ALT-DESC;FMTTYPE=text/html:<p>Übungsdienst der 5:Gruppe</p><p>Gerätehaus</p><p>GF W.Both</p>
DTSTAMP:20260423T113640
DTSTART:20240404T173000
DTEND:20240404T190000
SEQUENCE:0
TRANSP:OPAQUE
END:VEVENT
END:VCALENDAR