BEGIN:VCALENDAR
VERSION:2.0
PRODID:-//jEvents 2.0 for Joomla//EN
CALSCALE:GREGORIAN
METHOD:PUBLISH
BEGIN:VEVENT
UID:3ae968813f6b88678aba2e522b531769
CATEGORIES:JFW Mehrum
CREATED:20241218T091330
SUMMARY:Dienst
LOCATION:Feuerwehr Mehrum
DESCRIPTION:
CONTACT:https://www.ff-hohenhameln.de/index.php/jugend-und-kinder/jfw-mehrum
DTSTAMP:20260423T035849
DTSTART:20250602T160000
DTEND:20250602T173000
SEQUENCE:0
TRANSP:OPAQUE
END:VEVENT
END:VCALENDAR