BEGIN:VCALENDAR
VERSION:2.0
PRODID:-//jEvents 2.0 for Joomla//EN
CALSCALE:GREGORIAN
METHOD:PUBLISH
BEGIN:VEVENT
UID:6111bff4dd0fbd90f58bd4eb5c281336
CATEGORIES:JFW Mehrum
CREATED:20241218T092450
SUMMARY:Zeltlager
LOCATION:Haselünne
DESCRIPTION:
CONTACT:https://www.ff-hohenhameln.de/index.php/jugend-und-kinder/jfw-mehrum
X-EXTRAINFO:https://www.familiencampingplatz-haseluenne.de/
DTSTAMP:20260423T220915
DTSTART;VALUE=DATE:20250705
DTEND;VALUE=DATE:20250713
SEQUENCE:0
TRANSP:OPAQUE
END:VEVENT
END:VCALENDAR