BEGIN:VCALENDAR
VERSION:2.0
PRODID:-//jEvents 2.0 for Joomla//EN
CALSCALE:GREGORIAN
METHOD:PUBLISH
BEGIN:VEVENT
UID:81c08956fd05734edad83ac7bcf9c147
CATEGORIES:JFW Mehrum
CREATED:20241218T092558
SUMMARY:Bezirkswettkämpfe
LOCATION:Feuerwehr Mehrum
DESCRIPTION:
CONTACT:https://www.ff-hohenhameln.de/index.php/jugend-und-kinder/jfw-mehrum
X-EXTRAINFO:Nur im Falle einer Qualifizierung bei den Kreiswettkämpfen!!
DTSTAMP:20260423T011703
DTSTART;VALUE=DATE:20250629
DTEND;VALUE=DATE:20250630
SEQUENCE:0
TRANSP:OPAQUE
END:VEVENT
END:VCALENDAR