BEGIN:VCALENDAR
VERSION:2.0
PRODID:-//jEvents 2.0 for Joomla//EN
CALSCALE:GREGORIAN
METHOD:PUBLISH
BEGIN:VEVENT
UID:bb31fda4b116a6371a7b5cc52ef433f9
CATEGORIES:JFW Mehrum
CREATED:20241218T092636
SUMMARY:Ortswettkämpfe
LOCATION:Feuerwehr Mehrum
DESCRIPTION:
CONTACT:https://www.ff-hohenhameln.de/index.php/jugend-und-kinder/jfw-mehrum
DTSTAMP:20260423T110110
DTSTART:20250621T124500
DTEND:20250621T160000
SEQUENCE:0
TRANSP:OPAQUE
END:VEVENT
END:VCALENDAR