BEGIN:VCALENDAR
VERSION:2.0
PRODID:-//jEvents 2.0 for Joomla//EN
CALSCALE:GREGORIAN
METHOD:PUBLISH
BEGIN:VEVENT
UID:89fb9d93c0630f7f8c94bffd89e2bd39
CATEGORIES:JFW Mehrum
CREATED:20241218T092733
SUMMARY:Kreiswettkämpfe
LOCATION:Feuerwehr Mehrum
DESCRIPTION:
CONTACT:https://www.ff-hohenhameln.de/index.php/jugend-und-kinder/jfw-mehrum
DTSTAMP:20260423T041829
DTSTART;VALUE=DATE:20250614
DTEND;VALUE=DATE:20250615
SEQUENCE:0
TRANSP:OPAQUE
END:VEVENT
END:VCALENDAR