BEGIN:VCALENDAR
VERSION:2.0
PRODID:-//jEvents 2.0 for Joomla//EN
CALSCALE:GREGORIAN
METHOD:PUBLISH
BEGIN:VEVENT
UID:8b7b7b6243f4793840ada0c9af579458
CATEGORIES:JFW Mehrum
CREATED:20241218T092901
SUMMARY:Stadtwettkämpfe
LOCATION:Feuerwehr Mehrum
DESCRIPTION:
CONTACT:https://www.ff-hohenhameln.de/index.php/jugend-und-kinder/jfw-mehrum
DTSTAMP:20260423T172345
DTSTART;VALUE=DATE:20250517
DTEND;VALUE=DATE:20250518
SEQUENCE:0
TRANSP:OPAQUE
END:VEVENT
END:VCALENDAR