BEGIN:VCALENDAR
VERSION:2.0
PRODID:-//jEvents 2.0 for Joomla//EN
CALSCALE:GREGORIAN
METHOD:PUBLISH
BEGIN:VEVENT
UID:8fba49418ca9afcdce3e3bcfa015ffdc
CATEGORIES:Mehrum
CREATED:20241218T130541
SUMMARY:Leistungsnachweis
LOCATION:FTZ Peine
DESCRIPTION:
DTSTAMP:20260422T234818
DTSTART:20250325T170000
DTEND:20250325T200000
SEQUENCE:0
TRANSP:OPAQUE
END:VEVENT
END:VCALENDAR