BEGIN:VCALENDAR
VERSION:2.0
PRODID:-//jEvents 2.0 for Joomla//EN
CALSCALE:GREGORIAN
METHOD:PUBLISH
BEGIN:VEVENT
UID:0557788a66ef1ffc91e6e5922ffc1d05
CATEGORIES:Mehrum
CREATED:20241218T130640
SUMMARY:Dienst Atemschutzgeräteträger
LOCATION:Feuerwehr Mehrum
DESCRIPTION:
X-EXTRAINFO:Thema: Atemschutznotfall
DTSTAMP:20260423T205924
DTSTART:20250422T170000
DTEND:20250422T190000
SEQUENCE:0
TRANSP:OPAQUE
END:VEVENT
END:VCALENDAR