BEGIN:VCALENDAR
VERSION:2.0
PRODID:-//jEvents 2.0 for Joomla//EN
CALSCALE:GREGORIAN
METHOD:PUBLISH
BEGIN:VEVENT
UID:64cacafc6f1f03b2b25ea371322b32c6
CATEGORIES:Mehrum
CREATED:20241218T130715
SUMMARY:Leistungsnachweis
LOCATION:FTZ Peine
DESCRIPTION:
DTSTAMP:20260423T083157
DTSTART:20250527T160000
DTEND:20250527T190000
SEQUENCE:0
TRANSP:OPAQUE
END:VEVENT
END:VCALENDAR