BEGIN:VCALENDAR
VERSION:2.0
PRODID:-//jEvents 2.0 for Joomla//EN
CALSCALE:GREGORIAN
METHOD:PUBLISH
BEGIN:VEVENT
UID:dd160758793ec4b85326ae45bf6b5d08
CATEGORIES:Mehrum
CREATED:20241218T130812
SUMMARY:Dienst Atemschutzgeräteträger
LOCATION:Feuerwehr Mehrum
DESCRIPTION:
X-EXTRAINFO:Thema: Retten/Selbstretten über Steckleiter
DTSTAMP:20260422T195825
DTSTART:20250624T170000
DTEND:20250624T190000
SEQUENCE:0
TRANSP:OPAQUE
END:VEVENT
END:VCALENDAR