BEGIN:VCALENDAR
VERSION:2.0
PRODID:-//jEvents 2.0 for Joomla//EN
CALSCALE:GREGORIAN
METHOD:PUBLISH
BEGIN:VEVENT
UID:bf6009b005109c64900e0fa62c76fc6f
CATEGORIES:Mehrum
CREATED:20241218T130852
SUMMARY:Dienst Atemschutzgeräteträger
LOCATION:Feuerwehr Mehrum
DESCRIPTION:
X-EXTRAINFO:Thema: Strahlrohrtraining/ Schlauchmanagement
DTSTAMP:20260422T230035
DTSTART:20250722T170000
DTEND:20250722T190000
SEQUENCE:0
TRANSP:OPAQUE
END:VEVENT
END:VCALENDAR