BEGIN:VCALENDAR
VERSION:2.0
PRODID:-//jEvents 2.0 for Joomla//EN
CALSCALE:GREGORIAN
METHOD:PUBLISH
BEGIN:VEVENT
UID:0da11257d6f166ed7fcfb96cc4fc4632
CATEGORIES:Mehrum
CREATED:20241218T130923
SUMMARY:Dienst Atemschutzgeräteträger
LOCATION:Feuerwehr Mehrum
DESCRIPTION:
X-EXTRAINFO:Thema: BBK über Steckleiter
DTSTAMP:20260423T030651
DTSTART:20250819T170000
DTEND:20250819T190000
SEQUENCE:0
TRANSP:OPAQUE
END:VEVENT
END:VCALENDAR