BEGIN:VCALENDAR
VERSION:2.0
PRODID:-//jEvents 2.0 for Joomla//EN
CALSCALE:GREGORIAN
METHOD:PUBLISH
BEGIN:VEVENT
UID:0c74dc1c56bd84af1d81a46ecc8c915e
CATEGORIES:Mehrum
CREATED:20241218T130955
SUMMARY:Leistungsnachweis
LOCATION:FTZ Peine
DESCRIPTION:
DTSTAMP:20260423T080532
DTSTART:20250909T160000
DTEND:20250909T190000
SEQUENCE:0
TRANSP:OPAQUE
END:VEVENT
END:VCALENDAR