BEGIN:VCALENDAR
VERSION:2.0
PRODID:-//jEvents 2.0 for Joomla//EN
CALSCALE:GREGORIAN
METHOD:PUBLISH
BEGIN:VEVENT
UID:fffed9ac5a6f64fe735ce68bfef10bff
CATEGORIES:KFW Mehrum
CREATED:19700101T010000
SUMMARY:Dienst
LOCATION:Feuerwehr Mehrum
DESCRIPTION:
DTSTAMP:20260422T215924
DTSTART:20250117T153000
DTEND:20250117T170000
SEQUENCE:0
RRULE:FREQ=WEEKLY;COUNT=6;INTERVAL=2;BYDAY=FR
EXDATE:20250328T153000
TRANSP:OPAQUE
END:VEVENT
END:VCALENDAR