BEGIN:VCALENDAR
VERSION:2.0
PRODID:-//jEvents 2.0 for Joomla//EN
CALSCALE:GREGORIAN
METHOD:PUBLISH
BEGIN:VEVENT
UID:9e68d1b0e11f366979d18c423ed7c931
CATEGORIES:KFW Mehrum
CREATED:19700101T010000
SUMMARY:Dienst
LOCATION:Feuerwehr Mehrum
DESCRIPTION:
DTSTAMP:20260422T234833
DTSTART:20250425T143000
DTEND:20250425T160000
SEQUENCE:0
RRULE:FREQ=WEEKLY;COUNT=5;INTERVAL=2;BYDAY=FR
TRANSP:OPAQUE
END:VEVENT
END:VCALENDAR