BEGIN:VCALENDAR
VERSION:2.0
PRODID:-//jEvents 2.0 for Joomla//EN
CALSCALE:GREGORIAN
METHOD:PUBLISH
BEGIN:VEVENT
UID:268563705760ffd7f8d0896a31813167
CATEGORIES:Mehrum
CREATED:20241220T080317
SUMMARY:Dienst Gruppe Aumann
LOCATION:Feuerwehr Mehrum
DESCRIPTION:
X-EXTRAINFO:Thema: Erste Hilfe/MANV/KatS
DTSTAMP:20260423T101018
DTSTART:20250114T180000
DTEND:20250114T200000
SEQUENCE:0
TRANSP:OPAQUE
END:VEVENT
END:VCALENDAR