BEGIN:VCALENDAR
VERSION:2.0
PRODID:-//jEvents 2.0 for Joomla//EN
CALSCALE:GREGORIAN
METHOD:PUBLISH
BEGIN:VEVENT
UID:ba5b5e464842cff91e2a903165affc7b
CATEGORIES:Mehrum
CREATED:20241220T080715
SUMMARY:Dienst Gruppe Aumann
LOCATION:Feuerwehr Mehrum
DESCRIPTION:
DTSTAMP:20260423T033916
DTSTART:20250225T180000
DTEND:20250225T200000
SEQUENCE:0
TRANSP:OPAQUE
END:VEVENT
END:VCALENDAR