BEGIN:VCALENDAR
VERSION:2.0
PRODID:-//jEvents 2.0 for Joomla//EN
CALSCALE:GREGORIAN
METHOD:PUBLISH
BEGIN:VEVENT
UID:abdcab9928a5371b800bd80cf8f71faa
CATEGORIES:Mehrum
CREATED:20241220T080757
SUMMARY:Dienst Gruppe Aumann
LOCATION:Feuerwehr Mehrum
DESCRIPTION:
X-EXTRAINFO:Thema: Elektrische Gefahren
DTSTAMP:20260423T034401
DTSTART:20250311T180000
DTEND:20250311T200000
SEQUENCE:0
TRANSP:OPAQUE
END:VEVENT
END:VCALENDAR