BEGIN:VCALENDAR
VERSION:2.0
PRODID:-//jEvents 2.0 for Joomla//EN
CALSCALE:GREGORIAN
METHOD:PUBLISH
BEGIN:VEVENT
UID:4fe93112ab07edaaf626ce55e34ce0c5
CATEGORIES:Mehrum
CREATED:20241220T080824
SUMMARY:Dienst Gruppe Aumann
LOCATION:Feuerwehr Mehrum
DESCRIPTION:
DTSTAMP:20260422T220327
DTSTART:20250325T180000
DTEND:20250325T200000
SEQUENCE:0
TRANSP:OPAQUE
END:VEVENT
END:VCALENDAR