BEGIN:VCALENDAR
VERSION:2.0
PRODID:-//jEvents 2.0 for Joomla//EN
CALSCALE:GREGORIAN
METHOD:PUBLISH
BEGIN:VEVENT
UID:f051fdd13e6e814de6709aa56d52af65
CATEGORIES:Mehrum
CREATED:20241220T080912
SUMMARY:Dienst Gruppe Aumann
LOCATION:Feuerwehr Mehrum
DESCRIPTION:
X-EXTRAINFO:Thema: Elektrische Gefahren
DTSTAMP:20260422T212334
DTSTART:20250408T170000
DTEND:20250408T190000
SEQUENCE:0
TRANSP:OPAQUE
END:VEVENT
END:VCALENDAR