BEGIN:VCALENDAR
VERSION:2.0
PRODID:-//jEvents 2.0 for Joomla//EN
CALSCALE:GREGORIAN
METHOD:PUBLISH
BEGIN:VEVENT
UID:d32575552612537df01510a133bdc6a0
CATEGORIES:Mehrum
CREATED:20241220T081249
SUMMARY:Dienst Gruppe Aumann
LOCATION:Feuerwehr Mehrum
DESCRIPTION:
X-EXTRAINFO:Üben Ortswettkämpfe
DTSTAMP:20260423T034356
DTSTART:20250603T170000
DTEND:20250603T190000
SEQUENCE:0
TRANSP:OPAQUE
END:VEVENT
END:VCALENDAR