BEGIN:VCALENDAR
VERSION:2.0
PRODID:-//jEvents 2.0 for Joomla//EN
CALSCALE:GREGORIAN
METHOD:PUBLISH
BEGIN:VEVENT
UID:01ede2821ef8b2a52bf9aa2a0fe0b887
CATEGORIES:Mehrum
CREATED:20241220T081315
SUMMARY:Dienst Gruppe Aumann
LOCATION:Feuerwehr Mehrum
DESCRIPTION:
X-EXTRAINFO:Üben Ortswettkämpfe
DTSTAMP:20260423T022045
DTSTART:20250617T170000
DTEND:20250617T190000
SEQUENCE:0
TRANSP:OPAQUE
END:VEVENT
END:VCALENDAR