BEGIN:VCALENDAR
VERSION:2.0
PRODID:-//jEvents 2.0 for Joomla//EN
CALSCALE:GREGORIAN
METHOD:PUBLISH
BEGIN:VEVENT
UID:7870e16f677ed02d632e03ec67449121
CATEGORIES:Mehrum
CREATED:20241220T081401
SUMMARY:Ortswettkämpfe
LOCATION:Feuerwehr Mehrum
DESCRIPTION:
DTSTAMP:20260423T025323
DTSTART:20250621T110000
DTEND:20250621T210000
SEQUENCE:0
TRANSP:OPAQUE
END:VEVENT
END:VCALENDAR