BEGIN:VCALENDAR
VERSION:2.0
PRODID:-//jEvents 2.0 for Joomla//EN
CALSCALE:GREGORIAN
METHOD:PUBLISH
BEGIN:VEVENT
UID:ffe999656580d60288fef23730547298
CATEGORIES:Mehrum
CREATED:20241220T081449
SUMMARY:Dienst Gruppe Aumann
LOCATION:Feuerwehr Mehrum
DESCRIPTION:
X-EXTRAINFO:Thema: Lange Wegstrecke
DTSTAMP:20260423T115448
DTSTART:20250812T170000
DTEND:20250812T190000
SEQUENCE:0
TRANSP:OPAQUE
END:VEVENT
END:VCALENDAR