BEGIN:VCALENDAR
VERSION:2.0
PRODID:-//jEvents 2.0 for Joomla//EN
CALSCALE:GREGORIAN
METHOD:PUBLISH
BEGIN:VEVENT
UID:3bd4c6269dcdba5cc37e69eb0f6734a3
CATEGORIES:Mehrum
CREATED:20241220T081605
SUMMARY:Zugübung
LOCATION:Feuerwehr Mehrum
DESCRIPTION:
X-EXTRAINFO:Thema: Lange Wegstrecke
DTSTAMP:20260423T083825
DTSTART:20250829T160000
DTEND:20250829T200000
SEQUENCE:0
TRANSP:OPAQUE
END:VEVENT
END:VCALENDAR