BEGIN:VCALENDAR
VERSION:2.0
PRODID:-//jEvents 2.0 for Joomla//EN
CALSCALE:GREGORIAN
METHOD:PUBLISH
BEGIN:VEVENT
UID:9102db3087d110179e6de7adb043e3f2
CATEGORIES:Mehrum
CREATED:20241220T082527
SUMMARY:Dienst Gruppe Schäfer
LOCATION:Feuerwehr Mehrum
DESCRIPTION:
X-EXTRAINFO:Thema: Erste Hilfe/MANV/KatS
DTSTAMP:20260422T012007
DTSTART:20250109T180000
DTEND:20250109T200000
SEQUENCE:0
TRANSP:OPAQUE
END:VEVENT
END:VCALENDAR