BEGIN:VCALENDAR
VERSION:2.0
PRODID:-//jEvents 2.0 for Joomla//EN
CALSCALE:GREGORIAN
METHOD:PUBLISH
BEGIN:VEVENT
UID:531efcf0013f3d1a7a819acf9991f399
CATEGORIES:Mehrum
CREATED:20241220T082734
SUMMARY:Dienst Gruppe Schäfer
LOCATION:Feuerwehr Mehrum
DESCRIPTION:
X-EXTRAINFO:Thema: Elektrische Gefahren
DTSTAMP:20260422T222028
DTSTART:20250403T170000
DTEND:20250403T190000
SEQUENCE:0
TRANSP:OPAQUE
END:VEVENT
END:VCALENDAR