BEGIN:VCALENDAR
VERSION:2.0
PRODID:-//jEvents 2.0 for Joomla//EN
CALSCALE:GREGORIAN
METHOD:PUBLISH
BEGIN:VEVENT
UID:091f5a7b9645bd1f0304899625a9dbcc
CATEGORIES:Mehrum
CREATED:20241220T082921
SUMMARY:Dienst Gruppe Schäfer
LOCATION:Feuerwehr Mehrum
DESCRIPTION:
X-EXTRAINFO:Üben Ortswettkämpfe
DTSTAMP:20260423T115307
DTSTART:20250529T170000
DTEND:20250529T190000
SEQUENCE:0
TRANSP:OPAQUE
END:VEVENT
END:VCALENDAR