BEGIN:VCALENDAR
VERSION:2.0
PRODID:-//jEvents 2.0 for Joomla//EN
CALSCALE:GREGORIAN
METHOD:PUBLISH
BEGIN:VEVENT
UID:a576013614e1f7039bc4fa9449092103
CATEGORIES:Mehrum
CREATED:20241220T083003
SUMMARY:Dienst Gruppe Schäfer
LOCATION:Feuerwehr Mehrum
DESCRIPTION:
X-EXTRAINFO:Funk- und Fahrübung
DTSTAMP:20260423T030711
DTSTART:20250604T163000
DTEND:20250604T190000
SEQUENCE:0
TRANSP:OPAQUE
END:VEVENT
END:VCALENDAR