BEGIN:VCALENDAR
VERSION:2.0
PRODID:-//jEvents 2.0 for Joomla//EN
CALSCALE:GREGORIAN
METHOD:PUBLISH
BEGIN:VEVENT
UID:8c6737ec8bacd22d17c534669c741352
CATEGORIES:Mehrum
CREATED:20241220T083034
SUMMARY:Dienst Gruppe Schäfer
LOCATION:Feuerwehr Mehrum
DESCRIPTION:
X-EXTRAINFO:Üben Ortswettkämpfe
DTSTAMP:20260423T040128
DTSTART:20250612T170000
DTEND:20250612T190000
SEQUENCE:0
TRANSP:OPAQUE
END:VEVENT
END:VCALENDAR