BEGIN:VCALENDAR
VERSION:2.0
PRODID:-//jEvents 2.0 for Joomla//EN
CALSCALE:GREGORIAN
METHOD:PUBLISH
BEGIN:VEVENT
UID:f9bcea5b5ed8940be51a717c0e367de4
CATEGORIES:Mehrum
CREATED:20241220T083101
SUMMARY:Dienst Gruppe Schäfer
LOCATION:Feuerwehr Mehrum
DESCRIPTION:
X-EXTRAINFO:Thema: Hygienekonzept
DTSTAMP:20260423T050457
DTSTART:20250626T170000
DTEND:20250626T190000
SEQUENCE:0
TRANSP:OPAQUE
END:VEVENT
END:VCALENDAR